BEGIN:VCALENDAR
VERSION:2.0
PRODID:-//ChamberMaster//Event Calendar 2.0//EN
METHOD:PUBLISH
X-PUBLISHED-TTL:P3D
REFRESH-INTERVAL:P3D
CALSCALE:GREGORIAN
BEGIN:VEVENT
DTSTART:20240418T003000Z
DTEND:20240418T023000Z
X-MICROSOFT-CDO-ALLDAYEVENT:FALSE
SUMMARY:100 Women Who Care Giving Circle April 17th
DESCRIPTION:100 Women Who Care Lower Columbia is a local giving circle.  100 or more women gather quarterly and each donate $100 to a local nonprofit that the group nominates\, votes on and selects.  Our goal is to raise over $10\,000 in one hour for a local nonprofit! Join us for a heartfelt evening of giving back to our community.  Heavy appetizers will be served along with cash bar. Hope to see you there!
X-ALT-DESC;FMTTYPE=text/html:100 Women Who Care Lower Columbia is a local giving circle.&nbsp\; 100 or more women gather quarterly and each donate $100 to a local nonprofit that the group nominates\, votes on and selects.&nbsp\; Our goal is to raise over $10\,000 in one hour for a local nonprofit! Join us for a heartfelt evening of giving back to our community.&nbsp\; Heavy appetizers will be served along with cash bar. Hope to see you there!
LOCATION:Longview/Kelso Elks 900 Ash Street Kelso\, WA 98626
UID:e.33.3803
SEQUENCE:3
DTSTAMP:20260422T215413Z
URL:https://chamber.kelsolongviewchamber.org/events/details/100-women-who-care-giving-circle-april-17th-3803
END:VEVENT

END:VCALENDAR
