BEGIN:VCALENDAR
VERSION:2.0
PRODID:-//ChamberMaster//Event Calendar 2.0//EN
METHOD:PUBLISH
X-PUBLISHED-TTL:P3D
REFRESH-INTERVAL:P3D
CALSCALE:GREGORIAN
BEGIN:VEVENT
DTSTART:20240410T153000Z
DTEND:20240410T160000Z
X-MICROSOFT-CDO-ALLDAYEVENT:FALSE
SUMMARY:City of Longview Arbor Day Tree Planting
DESCRIPTION:Join us for our annual tree planting ceremony for Arbor Day on the Longview Library front lawn. Celebrating 40 years as a Tree City USA!
X-ALT-DESC;FMTTYPE=text/html:Join us for our annual tree planting ceremony for Arbor Day on the Longview Library front lawn. Celebrating 40 years as a Tree City USA!
LOCATION:Longview Library
UID:e.33.3829
SEQUENCE:3
DTSTAMP:20260422T201413Z
URL:https://chamber.kelsolongviewchamber.org/events/details/city-of-longview-arbor-day-tree-planting-3829
END:VEVENT

END:VCALENDAR
