BEGIN:VCALENDAR
VERSION:2.0
PRODID:-//ChamberMaster//Event Calendar 2.0//EN
METHOD:PUBLISH
X-PUBLISHED-TTL:P3D
REFRESH-INTERVAL:P3D
CALSCALE:GREGORIAN
BEGIN:VEVENT
DTSTART:20240111T013000Z
DTEND:20240111T023000Z
X-MICROSOFT-CDO-ALLDAYEVENT:FALSE
SUMMARY:Estate Planning Seminar
DESCRIPTION:Please join us for one of our next FREE estate planning seminars. Topics include celebrity estate planning mistakes\, how to avoid probate\, wills versus trusts\, planning for incapacity (avoiding guardianship)\, estate planning in blended families\, and more.
X-ALT-DESC;FMTTYPE=text/html:Please join us for one of our next FREE estate planning seminars. Topics include celebrity estate planning mistakes\, how to avoid probate\, wills versus trusts\, planning for incapacity (avoiding guardianship)\, estate planning in blended families\, and more.
LOCATION:841 12th Avenue Longview\, WA 98632
UID:e.33.3785
SEQUENCE:3
DTSTAMP:20260423T003017Z
URL:https://chamber.kelsolongviewchamber.org/events/details/estate-planning-seminar-01-10-2024-3785
END:VEVENT

END:VCALENDAR
