BEGIN:VCALENDAR
VERSION:2.0
PRODID:-//ChamberMaster//Event Calendar 2.0//EN
METHOD:PUBLISH
X-PUBLISHED-TTL:P3D
REFRESH-INTERVAL:P3D
CALSCALE:GREGORIAN
BEGIN:VEVENT
DTSTART:20231023T190000Z
DTEND:20231023T200000Z
X-MICROSOFT-CDO-ALLDAYEVENT:FALSE
SUMMARY:Estate Planning Seminar
DESCRIPTION:Please join us for one of our next FREE estate planning seminars. Topics include celebrity estate planning mistakes\, how to avoid probate\, wills versus trusts\, planning for incapacity (avoiding guardianship)\, estate planning in blended families\, and more. Please join us for one of our next FREE estate planning seminars.
X-ALT-DESC;FMTTYPE=text/html:Please join us for one of our next FREE estate planning seminars. Topics include celebrity estate planning mistakes\, how to avoid probate\, wills versus trusts\, planning for incapacity (avoiding guardianship)\, estate planning in blended families\, and more. Please join us for one of our next FREE estate planning seminars.
LOCATION:Three Rivers Law Center 841 12th Avenue Longview\, WA 98632
UID:e.33.3769
SEQUENCE:3
DTSTAMP:20260419T212854Z
URL:https://chamber.kelsolongviewchamber.org/events/details/estate-planning-seminar-10-23-2023-3769
END:VEVENT

END:VCALENDAR
