BEGIN:VCALENDAR
VERSION:2.0
PRODID:-//ChamberMaster//Event Calendar 2.0//EN
METHOD:PUBLISH
X-PUBLISHED-TTL:P3D
REFRESH-INTERVAL:P3D
CALSCALE:GREGORIAN
BEGIN:VEVENT
DTSTART:20240402T000000Z
DTEND:20240402T060000Z
X-MICROSOFT-CDO-ALLDAYEVENT:FALSE
SUMMARY:Join us April 1st @ McMenamins Kalama Harbor Lodge to Give Back to Longview's Walk to END Alzheimer's
DESCRIPTION:Friends & Family Night at McMenamins - Kalama Harbor Lodge on Monday\, April 1st from 5:00 til' close Friends and Family Nights\, bring everyone you know out for burgers\, beers\, wine\, cocktails\, salads\, sandwiches\, tater tots\, the day's specials and more - because at the end of the night\, 50% of the evening's total dine-in sales are donated to the Alzheimer's Association! The total will be counted towards the 2024 Lower Columbia Walk to END Alzheimier's scheduled for Satruday\, September 7th @ 10:00 at Lake Sacajawea Park! I will be there handing out resources and walk team information. Date - Monday\, April 1st Time - 5:00 p.m. - Close Location - 215 Hendrickson Drive Kalama\, WA\, 98625 Hope to see you there!
X-ALT-DESC;FMTTYPE=text/html:Friends &amp\; Family Night at McMenamins - Kalama Harbor Lodge on Monday\, April 1st from 5:00 til&#39\; close Friends and Family Nights\, bring everyone you know out for burgers\, beers\, wine\, cocktails\, salads\, sandwiches\, tater tots\, the day&#39\;s specials and more - because at the end of the night\, 50% of the evening&#39\;s total dine-in sales are donated to the Alzheimer&#39\;s Association! The total will be counted towards the 2024 Lower Columbia Walk to END Alzheimier&#39\;s scheduled for Satruday\, September 7th @ 10:00 at Lake Sacajawea Park! I will be there handing out resources and walk team information. Date - Monday\, April 1st Time - 5:00 p.m. - Close Location - 215 Hendrickson Drive Kalama\, WA\, 98625 Hope to see you there!
LOCATION:215 Hendrickson Drive Kalama\, WA\, 98625
UID:e.33.3824
SEQUENCE:3
DTSTAMP:20260422T215720Z
URL:https://chamber.kelsolongviewchamber.org/events/details/join-us-april-1st-mcmenamins-kalama-harbor-lodge-to-give-back-to-longview-s-walk-to-end-alzheimer-s-3824
END:VEVENT

END:VCALENDAR
