BEGIN:VCALENDAR
VERSION:2.0
PRODID:-//ChamberMaster//Event Calendar 2.0//EN
METHOD:PUBLISH
X-PUBLISHED-TTL:P3D
REFRESH-INTERVAL:P3D
CALSCALE:GREGORIAN
BEGIN:VEVENT
DTSTART:20240413T173000Z
DTEND:20240413T190000Z
X-MICROSOFT-CDO-ALLDAYEVENT:FALSE
SUMMARY:Owl Mascot Party\, Crafts\, and More
DESCRIPTION:Bring the family and celebrate the new Longview Public Library owl mascot! Discover her name\, make your very own owl craft and learn about local owls with WA State Parks Rangers!
X-ALT-DESC;FMTTYPE=text/html:Bring the family and celebrate the new Longview Public Library owl mascot! Discover her name\, make your very own owl craft and learn about local owls with WA State Parks Rangers!
LOCATION:Longview Library
UID:e.33.3830
SEQUENCE:3
DTSTAMP:20260422T201147Z
URL:https://chamber.kelsolongviewchamber.org/events/details/owl-mascot-party-crafts-and-more-3830
END:VEVENT

END:VCALENDAR
