BEGIN:VCALENDAR
VERSION:2.0
PRODID:-//ChamberMaster//Event Calendar 2.0//EN
METHOD:PUBLISH
X-PUBLISHED-TTL:P3D
REFRESH-INTERVAL:P3D
CALSCALE:GREGORIAN
BEGIN:VEVENT
DTSTART:20240414T020000Z
DTEND:20240414T190000Z
X-MICROSOFT-CDO-ALLDAYEVENT:FALSE
SUMMARY:Southwest Washington Symphony Concert
DESCRIPTION:Young Artist Concert Featuring 3 young musicians Saturday\, April 13\, 2024 7:00 p.m. Sunday\, April 14\, 2024 3:00 p.m.
X-ALT-DESC;FMTTYPE=text/html:Young Artist Concert Featuring 3 young musicians Saturday\, April 13\, 2024 7:00 p.m. Sunday\, April 14\, 2024 3:00 p.m.
LOCATION:Wollenberg Auditorium LCC Rose Center for the Arts
UID:e.33.3832
SEQUENCE:3
DTSTAMP:20260422T200236Z
URL:https://chamber.kelsolongviewchamber.org/events/details/southwest-washington-symphony-concert-3832
END:VEVENT

END:VCALENDAR
