BEGIN:VCALENDAR
VERSION:2.0
PRODID:-//ChamberMaster//Event Calendar 2.0//EN
METHOD:PUBLISH
X-PUBLISHED-TTL:P3D
REFRESH-INTERVAL:P3D
CALSCALE:GREGORIAN
BEGIN:VEVENT
DTSTART:20250202T230000Z
DTEND:20250203T010000Z
X-MICROSOFT-CDO-ALLDAYEVENT:FALSE
SUMMARY:Southwest Washington Symphony Winter Concert
DESCRIPTION:Flavors of Spain: Capriccio Espagnol Ferdinand the Bull Bolero Habanera Ritual Fire Dance
X-ALT-DESC;FMTTYPE=text/html:Flavors of Spain: Capriccio Espagnol Ferdinand the Bull Bolero Habanera Ritual Fire Dance
LOCATION:Columbia Theatre for the Performing Arts 1231 Vandercook Way\, Longview\, WA
UID:e.33.3986
SEQUENCE:3
DTSTAMP:20260420T124710Z
URL:https://chamber.kelsolongviewchamber.org/events/details/southwest-washington-symphony-winter-concert-02-02-2025-3986
END:VEVENT

END:VCALENDAR
