BEGIN:VCALENDAR
VERSION:2.0
PRODID:-//ChamberMaster//Event Calendar 2.0//EN
METHOD:PUBLISH
X-PUBLISHED-TTL:P3D
REFRESH-INTERVAL:P3D
CALSCALE:GREGORIAN
BEGIN:VEVENT
DTSTART;VALUE=DATE:20231003
DTEND;VALUE=DATE:20231004
TRANSP:TRANSPARENT
X-MICROSOFT-CDO-ALLDAYEVENT:TRUE
SUMMARY:Together We Succeed\, Southwest Washington SHRM Conference
DESCRIPTION:Sign up today and join our 400 member strong Southwest Washington SHRM in attending\, Together We Succeed\, HR Annual Conference. Kicking us off is Moe Carrick\, Making Work Good: CRITICAL HR CROSSROADS FOR THE FUTURE. The day will be filled with the latest in Legal\, Cultural\, Benefits and Talent Acquisition needs to ensure you have the latest in all your HR needs. It's a great time to learn new regulations\, grow your network and take back real tactics to implement in your company to see results. Then we end the day with Happy Hour with free Appetizers and Drinks and receive raffles from our great sponsors! Want to Sponsor? We hope you sign up soon at https://swshrm.org/catalog.php?cat=5
X-ALT-DESC;FMTTYPE=text/html:Sign up today and join our 400 member strong Southwest Washington SHRM in attending\, Together We Succeed\, HR Annual Conference. Kicking us off is Moe Carrick\, Making Work Good: CRITICAL HR CROSSROADS FOR THE FUTURE. The day will be filled with the latest in Legal\, Cultural\, Benefits and Talent Acquisition needs to ensure you have the latest in all your HR needs. It&rsquo\;s a great time to learn new regulations\, grow your network and take back real tactics to implement in your company to see results. Then we end the day with Happy Hour with free Appetizers and Drinks and receive raffles from our great sponsors! Want to Sponsor? We hope you sign up soon at https://swshrm.org/catalog.php?cat=5
LOCATION:Vancouver Hilton Convention Center 301 W. 6th Street Vancouver\, WA 98660
UID:e.33.3757
SEQUENCE:3
DTSTAMP:20260419T213115Z
URL:https://chamber.kelsolongviewchamber.org/events/details/together-we-succeed-southwest-washington-shrm-conference-3757
END:VEVENT

END:VCALENDAR
