BEGIN:VCALENDAR
VERSION:2.0
PRODID:-//ChamberMaster//Event Calendar 2.0//EN
METHOD:PUBLISH
X-PUBLISHED-TTL:P3D
REFRESH-INTERVAL:P3D
CALSCALE:GREGORIAN
BEGIN:VEVENT
DTSTART:20240407T010000Z
DTEND:20240407T050000Z
X-MICROSOFT-CDO-ALLDAYEVENT:FALSE
SUMMARY:Wine Tasting & Auction
DESCRIPTION:Join us for our annual Wine Tasting & Auction to support our Youth Activities Fund! Good food\, good wine\, raffles\, silent and live auction and more. Live music by Tony Jones too! Tickets on sale at the Elks Lodge\, $35 per person. Open to the public\, so come support our youth!
X-ALT-DESC;FMTTYPE=text/html:Join us for our annual Wine Tasting &amp\; Auction to support our Youth Activities Fund! Good food\, good wine\, raffles\, silent and live auction and more. Live music by Tony Jones too! Tickets on sale at the Elks Lodge\, $35 per person. Open to the public\, so come support our youth!
LOCATION:Kelso-Longview Elks\, 900 Ash St\, Kelso\, WA 98626
UID:e.33.3822
SEQUENCE:3
DTSTAMP:20260422T195200Z
URL:https://chamber.kelsolongviewchamber.org/events/details/wine-tasting-auction-3822
END:VEVENT

END:VCALENDAR
